BEGIN:VCALENDAR
VERSION:2.0
PRODID:-//wp-events-plugin.com//7.2.3.1//EN
TZID:Europe/Stockholm
X-WR-TIMEZONE:Europe/Stockholm
BEGIN:VEVENT
UID:460@volvop1800club.se
DTSTART;TZID=Europe/Stockholm:20211009T080000
DTEND;TZID=Europe/Stockholm:20211009T150000
DTSTAMP:20210809T170707Z
URL:https://volvop1800club.se/events/backluckeloppis-hos-svis/
SUMMARY:Backluckeloppis hos SVIS
DESCRIPTION:Backluckeloppis hos SVIS. Insläpp för säljare kl. 07. Öppet
  8-15. www.svis.se\n\nKarta:\n
ATTACH;FMTTYPE=image/jpeg:https://volvop1800club.se/wp-content/uploads/202
 0/02/SVIS-2006-006-1-620x330-9.jpg
CATEGORIES:Lokal Volvoträff,Lokala bilträff
END:VEVENT
BEGIN:VTIMEZONE
TZID:Europe/Stockholm
X-LIC-LOCATION:Europe/Stockholm
BEGIN:DAYLIGHT
DTSTART:20210328T030000
TZOFFSETFROM:+0100
TZOFFSETTO:+0200
TZNAME:CEST
END:DAYLIGHT
END:VTIMEZONE
END:VCALENDAR