BEGIN:VCALENDAR
VERSION:2.0
PRODID:-//wp-events-plugin.com//7.2.3.1//EN
TZID:Europe/Stockholm
X-WR-TIMEZONE:Europe/Stockholm
BEGIN:VEVENT
UID:457@volvop1800club.se
DTSTART;TZID=Europe/Stockholm:20210828T080000
DTEND;TZID=Europe/Stockholm:20210828T130000
DTSTAMP:20210809T164711Z
URL:https://volvop1800club.se/events/begagnattraff-hos-motoroldies/
SUMMARY:Begagnatträff hos Motoroldies
DESCRIPTION:Begagnatträff hos Motoroldies i Glanshammar. www.motoroldies.
 se\n\nRinkaby-Solberga 311\, 705 96 Glanshammar\n\nKarta:\n
ATTACH;FMTTYPE=image/jpeg:https://volvop1800club.se/wp-content/uploads/202
 1/08/ban14s.jpg
CATEGORIES:Lokala bilträff
END:VEVENT
BEGIN:VTIMEZONE
TZID:Europe/Stockholm
X-LIC-LOCATION:Europe/Stockholm
BEGIN:DAYLIGHT
DTSTART:20210328T030000
TZOFFSETFROM:+0100
TZOFFSETTO:+0200
TZNAME:CEST
END:DAYLIGHT
END:VTIMEZONE
END:VCALENDAR