BEGIN:VCALENDAR
VERSION:2.0
PRODID:-//wp-events-plugin.com//7.2.3.1//EN
TZID:Europe/Stockholm
X-WR-TIMEZONE:Europe/Stockholm
BEGIN:VEVENT
UID:351@volvop1800club.se
DTSTART;TZID=Europe/Stockholm;VALUE=DATE:20240329
DTEND;TZID=Europe/Stockholm;VALUE=DATE:20240402
DTSTAMP:20240116T145442Z
URL:https://volvop1800club.se/events/bilsport-performance-custom-motor-sho
 w/
SUMMARY:Elmia Bilmässa
DESCRIPTION:[box type="shadow" ]\n\nProgram och mer info kommer....\n\nVi h
 älsar klubbens medlemmar välkomna 15-17 mars[/box]\n\nMer info på hemsi
 dan HÄR
ATTACH;FMTTYPE=image/jpeg:https://volvop1800club.se/wp-content/uploads/201
 8/01/DSC_0237.jpg
CATEGORIES:Större bilträff där P1800-klubben deltar,Större bilträff
 för alla fordon
LOCATION:Elmia\, Elmiavägen\, Jönköping\, Sverige
GEO:57.78759059999999;14.230722700000001
X-APPLE-STRUCTURED-LOCATION;VALUE=URI;X-ADDRESS=Elmiavägen\, Jönköping\,
  Sverige;X-APPLE-RADIUS=100;X-TITLE=Elmia:geo:57.78759059999999,14.2307227
 00000001
END:VEVENT
BEGIN:VTIMEZONE
TZID:Europe/Stockholm
X-LIC-LOCATION:Europe/Stockholm
BEGIN:STANDARD
DTSTART:20231029T020000
TZOFFSETFROM:+0200
TZOFFSETTO:+0100
TZNAME:CET
END:STANDARD
BEGIN:DAYLIGHT
DTSTART:20240331T030000
TZOFFSETFROM:+0100
TZOFFSETTO:+0200
TZNAME:CEST
END:DAYLIGHT
END:VTIMEZONE
END:VCALENDAR