BEGIN:VCALENDAR
VERSION:2.0
PRODID:-//wp-events-plugin.com//7.2.3.1//EN
TZID:Europe/Stockholm
X-WR-TIMEZONE:Europe/Stockholm
BEGIN:VEVENT
UID:456@volvop1800club.se
DTSTART;TZID=Europe/Stockholm:20210904T080000
DTEND;TZID=Europe/Stockholm:20210904T183000
DTSTAMP:20210531T135834Z
URL:https://volvop1800club.se/events/danmarks-storsta-volvotraff/
SUMMARY:Danmarks största Volvoträff
DESCRIPTION:Inbjudan till Danmarks största Volvoträff i Kolding Volvo Klu
 bs 35. stora träff\n\n[box type="shadow" ] [dropcap]D[/dropcap]et kommer 
 att finnas många bås med klubbar\, reservdelar\, barn grejer\, underhål
 lning från scenen och mycket mer bra.\n\nAvgift v. Ingång. Vuxna DKK 70.
  Barn under 14 år gratis tillsammans med vuxna\nGRATIS camping - ingen av
 gift i år! Inträde för klubbens egna medlemmar: 40 DKK.\n\nKl. 8.00 - 9
 .00 Uppställning av bilar\nKl. 9.00 Mötet öppnar - scenuppsättningen m
 åste vara på plats\nKl. 9.00 - 13.00 Bedömning av bilarna. Valsedlar m
 åste lämnas in innan Kl. 13\nKl. 9.30 - 14.00 Barnaktiviteter i "barntä
 ltet"\, vuxna "anställda" för att hålla koll på.\nKl. 12:45 Utdelning 
 av priser till barnen i olika barntävlingar\nKl. 13.10 Auktion av utvalda
  sponsorgåvor\, kom och bjud\, både dansk och holländsk auktion\nKl. 1
 5.30 Flaggor sätts i vindrutorna på de bilar som har vunnit priser. 16:1
 5 Presentation av ett särskilt stort pris efter dragningen\, stanna\, du
  kanske är den lyckliga\nKl. 16.30 Utdelning av priser och troféer\, de 
 vinnande bilarna kommer att markeras i vindrutan och föraren uppmanas at
 t vara redo. Om bilen inte är på plats går priset till nästa på list
 an.\nKl. 17.00 Mötet avslutas -Tack för detta år\nKl. 18.30 En riktigt 
 bra middag serveras för endast 140 DKK efter behov Förhandsbokad. Dryck
 er betalas direkt på dagen. OBS: Drycker som tas med får inte avnjutas 
 i hallen.\n\nKl. 08.00 - 12.00 Vi vill att alla ska hjälpa till vid städ
 ning på torget. Håll området runt tältet / husvagnen rent. Det är et
 t lånat bollfält.\nMer information om. mötet är tillgängligt genom at
 t kontakta Thomas Jørgensen Tel. 25 747 240 eller mail: redaktion@kolding
 volvoklub.dk \n\nSe info på www.koldingvolvoklub.dk\n\nMed förbehåll f
 ör något. förändringar i programmet och eventuellt COVID-begränsninga
 r.\nDeltagande och vistelse på webbplatsen sker på egen risk!\n\nKörnin
 g på platsen: MAX 10 km/h. VISA RESPEKT![/box]\nKarta:\n
ATTACH;FMTTYPE=image/jpeg:https://volvop1800club.se/wp-content/uploads/202
 1/05/kolding2.png
CATEGORIES:Lokal Volvoträff
END:VEVENT
BEGIN:VTIMEZONE
TZID:Europe/Stockholm
X-LIC-LOCATION:Europe/Stockholm
BEGIN:DAYLIGHT
DTSTART:20210328T030000
TZOFFSETFROM:+0100
TZOFFSETTO:+0200
TZNAME:CEST
END:DAYLIGHT
END:VTIMEZONE
END:VCALENDAR