BEGIN:VCALENDAR
VERSION:2.0
PRODID:-//wp-events-plugin.com//7.2.3.1//EN
TZID:Europe/Stockholm
X-WR-TIMEZONE:Europe/Stockholm
BEGIN:VEVENT
UID:451@volvop1800club.se
DTSTART;TZID=Europe/Stockholm:20230819T093000
DTEND;TZID=Europe/Stockholm:20230819T163000
DTSTAMP:20230629T002934Z
URL:https://volvop1800club.se/events/gastriketraffen/
SUMMARY:Gästriketräffen
DESCRIPTION:Välkommen till Gästriketuren\n[box type="shadow" ][dropcap]L[
 /dropcap]ördagen 19/8 . kl 9.30 samlas vi vid kyrkan i Kungsgården.\n\nV
 i åker mot Krylbo Lokstation med en kaffepaus/bensträckare efter vägen\
 , med egen medhavd förtäring.\n\nDärefter vidare till Krylbo lokstation
 \, där äter vi lunch kl 12.00\n\nEfter lunchen får vi en Guidad tur om 
 ånglokens historia.\n\nDet går även bra att ansluta i krylbo för de so
 m vill det.\n\nP 1800 klubben står för lunch samt guidad tur.\n\nSista a
 nmälnings dag är Lördagen 5/8.\n\nMvh Micke 0702-098 323 Pelle 0725-830
  211\nKarta:\n\n\n[/box]
ATTACH;FMTTYPE=image/jpeg:https://volvop1800club.se/wp-content/uploads/202
 3/05/IMG_2188.jpg
CATEGORIES:Träff för enbart P1800
END:VEVENT
BEGIN:VTIMEZONE
TZID:Europe/Stockholm
X-LIC-LOCATION:Europe/Stockholm
BEGIN:DAYLIGHT
DTSTART:20230326T030000
TZOFFSETFROM:+0100
TZOFFSETTO:+0200
TZNAME:CEST
END:DAYLIGHT
END:VTIMEZONE
END:VCALENDAR