BEGIN:VCALENDAR
VERSION:2.0
PRODID:-//wp-events-plugin.com//7.2.3.1//EN
TZID:Europe/Stockholm
X-WR-TIMEZONE:Europe/Stockholm
BEGIN:VEVENT
UID:459@volvop1800club.se
DTSTART;TZID=Europe/Stockholm:20210925T100000
DTEND;TZID=Europe/Stockholm:20210925T150000
DTSTAMP:20210809T170153Z
URL:https://volvop1800club.se/events/gcp-volvo-parts-meet/
SUMMARY:GCP: Volvo Parts Meet
DESCRIPTION:Volvo Parts Meet\, utförsäljning av Volvodelar. www.gcp.se\n
 \nKarta:\n
ATTACH;FMTTYPE=image/jpeg:https://volvop1800club.se/wp-content/uploads/202
 1/08/gcp.png
CATEGORIES:Lokal Volvoträff
END:VEVENT
BEGIN:VTIMEZONE
TZID:Europe/Stockholm
X-LIC-LOCATION:Europe/Stockholm
BEGIN:DAYLIGHT
DTSTART:20210328T030000
TZOFFSETFROM:+0100
TZOFFSETTO:+0200
TZNAME:CEST
END:DAYLIGHT
END:VTIMEZONE
END:VCALENDAR