BEGIN:VCALENDAR
VERSION:2.0
PRODID:-//wp-events-plugin.com//7.2.3.1//EN
TZID:Europe/Stockholm
X-WR-TIMEZONE:Europe/Stockholm
BEGIN:VEVENT
UID:466@volvop1800club.se
DTSTART;TZID=Europe/Stockholm;VALUE=DATE:20230604
DTEND;TZID=Europe/Stockholm;VALUE=DATE:20230605
DTSTAMP:20230602T190843Z
URL:https://volvop1800club.se/events/gotastrom-classic-motor-vaggeryd/
SUMMARY:Götaström Classic Motor\, Vaggeryd
DESCRIPTION:\n[box type="shadow" ]P1800-klubben kommer att finnas på plats
  och vi hoppas att vi får träffa klubbkamrater den här dagen och även 
 få nya medlemmar. Vi kommer att ha klubbshopen på plats med bokpaket m.m
 .\n\nAlla sorters fordon kommer till denna som förra året drog många en
 tusiaster till Vaggeryds Travbana vid E4:an.\n\nBland annat blir det Veter
 anmarknad\, aktiviteter för hela familjen och Musik-underhållning.\n\nF
 örare av entusiastfordon kommer in gratis\, övriga i bilen betalar 150 k
 ronor per person.  Betala helst med Swish men kontant går också bra i n
 ödfall. Tyvärr går det inte med kort.\n\nOmrådet öppnar 07.00 och 09.
 00 startar Smålandsrundan från BK Åkeri ett stenkast från travbanan.\n
 \nKlockan 10.00 Officiell invigning från scenen med Götaströms Fordonsh
 istoriska Klubb och Classic Motor.\n\n10.30 No Possession underhåller med
  bl.a. Rolling Stonesmusik.\n\n12.00 Målgång vid travbanan för Småland
 srundan.\n\n13.30 Svenne Rubin underhåller\n\nChrister Adamsson och Wolra
 th Ward ansvarar för vårt deltagande.\n\nVälkomna till denna träff!\n\
 n\nKontaktperson: Mats Skogsfors\n[/box]\nKarta:\n
ATTACH;FMTTYPE=image/jpeg:https://volvop1800club.se/wp-content/uploads/202
 2/06/6755555191794218133.jpg
CATEGORIES:Lokala bilträff,Större bilträff där P1800-klubben deltar
END:VEVENT
BEGIN:VTIMEZONE
TZID:Europe/Stockholm
X-LIC-LOCATION:Europe/Stockholm
BEGIN:DAYLIGHT
DTSTART:20230326T030000
TZOFFSETFROM:+0100
TZOFFSETTO:+0200
TZNAME:CEST
END:DAYLIGHT
END:VTIMEZONE
END:VCALENDAR