BEGIN:VCALENDAR
VERSION:2.0
PRODID:-//wp-events-plugin.com//7.2.3.1//EN
TZID:Europe/Stockholm
X-WR-TIMEZONE:Europe/Stockholm
BEGIN:VEVENT
UID:521@volvop1800club.se
DTSTART;TZID=Europe/Stockholm:20250524T100000
DTEND;TZID=Europe/Stockholm:20250525T170000
DTSTAMP:20250408T205459Z
URL:https://volvop1800club.se/events/gothenburg-classic-car-weekend/
SUMMARY:Gothenburg Classic Car Weekend
DESCRIPTION:Premiär för Gothenburg Classic Car Weekend (GCCW) i Göteborg
 .\n\n[box type="shadow" ]\n\nI år ersätts Tjolöholm Classic Motor på T
 jolöholm av GCCW som är ett 2-dagarsevenemang mitt i Göteborg på det g
 amla varvsområdet på Hisingen.\n\nMitt i Nordens ”Sillicon Valley” L
 indholmen kommer du att kunna uppleva över 700 noga utvalda klassiska bil
 ar &amp\; motorcyklar. Vår miljö är unik\, här känns vårt industriar
 v i varje gränd – I varje hangar. Samtidigt pulserar framtidens fordons
 industri och innovationskraft överallt.\n\nDet är på Lindholmen det hä
 nder!\n\nArrangören kommer att lägga ut programmet på sin hemsida ( ht
 tps://www.gccw.se/ ) i god tid innan\n\nProgrammet kommer bland annat inne
 hålla Premium Classic Cars exhibition\, Super Cars Exhibition\, Historica
 l Racing Cars Experience för alla sinnen (titta\, dofta\, lyssna)\, Motor
 cyklar &amp\; Mopeder\, Legendariska motorprofiler\, Liveband\, 20 härlig
 a matställen signerade Lindholmen Streefood market och Vassen Market och 
 mycket\, mycket mer…\n\nPå lördagskvällen erbjuds också en festkväl
 l vid namn Cars &amp\; Guitars på Kooperativet och det finns rabatterad h
 otellövernattning i närområdet vid behov.\n\nVill du delta på träffen
  och stå på Svenska Volvo P1800-klubbens område så kontaktar du Inge F
 orsberg (inge.forsberg@gmail.com) för anmälan. Har du varit med på Tjol
 öholm tidigare har jag dina uppgifter annars vill jag veta namn\, adress\
 , telefonnr\, regnr\, modell på din P1800 tillsammans med färg och årsm
 odell.\n\n[/box]\n\nKarta:\n
ATTACH;FMTTYPE=image/jpeg:https://volvop1800club.se/wp-content/uploads/202
 5/01/Göteborgs-Classic-Car.png
CATEGORIES:Större bilträff där P1800-klubben deltar
END:VEVENT
BEGIN:VTIMEZONE
TZID:Europe/Stockholm
X-LIC-LOCATION:Europe/Stockholm
BEGIN:DAYLIGHT
DTSTART:20250330T030000
TZOFFSETFROM:+0100
TZOFFSETTO:+0200
TZNAME:CEST
END:DAYLIGHT
END:VTIMEZONE
END:VCALENDAR