BEGIN:VCALENDAR
VERSION:2.0
PRODID:-//wp-events-plugin.com//7.2.3.1//EN
TZID:Europe/Stockholm
X-WR-TIMEZONE:Europe/Stockholm
BEGIN:VEVENT
UID:415@volvop1800club.se
DTSTART;TZID=Europe/Stockholm;VALUE=DATE:20260613
DTEND;TZID=Europe/Stockholm;VALUE=DATE:20260614
DTSTAMP:20260228T204322Z
URL:https://volvop1800club.se/events/gotlandstraffen-2026/
SUMMARY:Gotlandsträffen 2026
DESCRIPTION:[su_box title="Gotlandsträffen 2026" style="soft" box_color="#
 fdfc73" title_color="#0b0a0a"]\n\n\n 	08.30 är det samling i det mysiga s
 amhället Fridhem\, alldeles söder om Visby. Växtligheten runt Prinsessa
 n Eugenies ståtliga sommarresidens från 1800-talet är som balsam för s
 jälen och en utmärkt samlingsplats inför dagens aktiviteter. I år så 
 blickar vi söderut men startar dagen med ett kärt återseende och utbyte
 r lite fakta om oss själva och våra klenoder.\n 	09.15 åker vi mot dage
 ns första mål\, ett café som erbjuder både smörgåsar och bakverk i f
 rodig miljö med målsättningen att ”bara vara”. Fikat betalar vi sj
 älva.\n 	Ca kl 11 rullar vi iväg i stillsamt tempo för att avnjuta Gotl
 ands varierande natur. En och annan medeltidskyrka dyker upp både till h
 öger och vänster och kanske kommer några kossor att stirra på oss.\n 	
 Efter 12 äter vi en smakrik måltid i Klintehamn alldeles intill det mäk
 tiga havet. Precis som tidigare år kan vi njuta av utsikten med stora och
  lilla Karlsö i ögonvrån. Här äter vi läckerheter från havet.\n 	Ca
  13.30: Vi värmer upp våra motorer och förflyttar oss söderut längs v
 äg 140. I Hablingbo väntar vinodlaren Björn Jansson på oss för att gu
 ida oss genom hans mäktiga vingård. Här växer frodiga vinstockar som u
 tgör grunden till deras mustiga viner. Gute vingård omfattar 5 hektar oc
 h ca 17000 vinstockar. Solaris\, Phönix och Rondo är namnet på druvorna
  de odlar just nu. Kostnaden för en guidad tur blir 250 kr/person. Vill m
 an dessutom boka en vinprovning (4 olika sorter) blir kostnaden 350 kr. H
 är finns också tillfälle att inhandla något gott vin. Guidningen tar c
 a 1-1\,5 timmar.\n 	Från ca 16 ledig tid.\n 	18.00. Frågesportrunda vid 
 restaurang Strandakar som ligger sydöst om Stånga. Adress: När Bomunds 
 Burgen 924 B 623 48 Stånga.\n 	18.30 Kvällens middag (menyn inte riktigt
  klar än). Kostnad ca 350-400 kr per person. Här finns också fina möjl
 igheter till övernattning i deras moderna och fräscha lokaler.Tel. 0498-
 691380 Mejl: info@strandakar.se. Avstånd mellan Hablingbo och Strandakar:
  ca 2 mil.\n\nÄven detta år finns det möjlighet att få rabatt på båt
 biljetten. Kontakta undertecknad för att erhålla koden.Mejl: finskulptur
 @protonmail.com eller 073-827 98 38 (sms).\nSista anmälningsdag: 3 juni\n
 Varmt välkomna! Martin Wallen: Mail eller tel. 0738-279 838 (sms)\n[/su_
 box]\n\n\n\nKarta:\n\n\n&nbsp\;\n\n
ATTACH;FMTTYPE=image/jpeg:https://volvop1800club.se/wp-content/uploads/202
 6/01/5b.jpg
CATEGORIES:Träff för enbart P1800
END:VEVENT
BEGIN:VTIMEZONE
TZID:Europe/Stockholm
X-LIC-LOCATION:Europe/Stockholm
BEGIN:DAYLIGHT
DTSTART:20260329T030000
TZOFFSETFROM:+0100
TZOFFSETTO:+0200
TZNAME:CEST
END:DAYLIGHT
END:VTIMEZONE
END:VCALENDAR