BEGIN:VCALENDAR
VERSION:2.0
PRODID:-//wp-events-plugin.com//7.2.3.1//EN
TZID:Europe/Stockholm
X-WR-TIMEZONE:Europe/Stockholm
BEGIN:VEVENT
UID:452@volvop1800club.se
DTSTART;TZID=Europe/Stockholm;VALUE=DATE:20250501
DTEND;TZID=Europe/Stockholm;VALUE=DATE:20250502
DTSTAMP:20250126T182525Z
URL:https://volvop1800club.se/events/hostrunda-med-start-i-staffanstorp/
SUMMARY:1 maj tur med start i Staffanstorp
DESCRIPTION:1 maj tur med start i Staffanstorp\n[box type="shadow" ]Vi trä
 ffas på Lidl\, och kör en gemensam runda på cirka 5 mil.Vi är ett anta
 l personer som brukar köra en 1:a majrunda med våra gamla bilar.\n\nDe a
 ndra åren har vi mest bjudit in via Facebook men nu tar vi det till klubb
 tidningarna också.\n\nVi samlas på Willys parkeringsplats Barkvägen 32 
 i Staffanstorp.\n\nTid:1 maj klockan 10:00.\n\nTa med P-skiva till parkeri
 ngen på Willys.\n\nVi kör gemensamt i en karavan och avslutar rundan med
  att vi tänder en grill där var och en grillar det man tar med sig själ
 v.\n\nRäkna med att rundan blir 5 till 6 mil ungefär och vi brukar vara 
 färdiga vid 14-tiden.\n\nVälkomna!\n\nOla Olsson Modig olaolssonmodig@gm
 ail.com\nKARTA:\n\n\n[/box]
CATEGORIES:Lokal Volvoträff
END:VEVENT
BEGIN:VTIMEZONE
TZID:Europe/Stockholm
X-LIC-LOCATION:Europe/Stockholm
BEGIN:DAYLIGHT
DTSTART:20250330T030000
TZOFFSETFROM:+0100
TZOFFSETTO:+0200
TZNAME:CEST
END:DAYLIGHT
END:VTIMEZONE
END:VCALENDAR