BEGIN:VCALENDAR
VERSION:2.0
PRODID:-//wp-events-plugin.com//7.2.3.1//EN
TZID:Europe/Stockholm
X-WR-TIMEZONE:Europe/Stockholm
BEGIN:VEVENT
UID:519@volvop1800club.se
DTSTART;TZID=Europe/Stockholm;VALUE=DATE:20250531
DTEND;TZID=Europe/Stockholm;VALUE=DATE:20250601
DTSTAMP:20250126T183334Z
URL:https://volvop1800club.se/events/inbjudan-till-vwarfest-rally/
SUMMARY:Inbjudan till vwårfest rally!
DESCRIPTION:Inbjudan till vwårfest rally!\n[box type="shadow" ]Inbjuder er
  alla till vwårfest rally att fira in våren med! Vi kan lova en dag där
  naturen står i blom.\n\nEn känd motorprofil starar rallyt kl 10:00.\n\n
 En trevlig runda i den skånska myllan med klurigheter att lösa längs v
 ägen!\n\nVäl i mål tar en tipspromenad med praktiska inslag vid.\n\nMå
 nga fina priser.\n\nServering finns på området\, allt från kaffe och ka
 ka till korv med bröd.\n\nEn trubadur spelar musik när ni kommit i mål.
 \n\nBland annat finns det hoppborg och ansiktsmålning för barnen. Räddn
 ingstjänsten kommer att visa upp sig i mån av tid.\n\nEn dag för HELA f
 amiljen.\n\nÄr inte veteranbilen redo för en tur? Kör med bruksbilen is
 tället!\n\nAlla bilmärke är välkomna.\n\nIngen föranmälan behövs.\n
 \nDatum lördagen den 31maj 2025\n\nSamling 9:30\, första start 10:00\n\n
 Pris: 100 kr per fordon.\n\nVar: Jägersbo camping i Höör.\n\nFrågor? M
 ejla svwv @outlook.com\n\nEtt samarbete mellan Svenska Volkswagen veterane
 rna och Jägersbo camping. \n\n[/box]\nKarta:\n
CATEGORIES:Lokala bilträff
END:VEVENT
BEGIN:VTIMEZONE
TZID:Europe/Stockholm
X-LIC-LOCATION:Europe/Stockholm
BEGIN:DAYLIGHT
DTSTART:20250330T030000
TZOFFSETFROM:+0100
TZOFFSETTO:+0200
TZNAME:CEST
END:DAYLIGHT
END:VTIMEZONE
END:VCALENDAR