BEGIN:VCALENDAR
VERSION:2.0
PRODID:-//wp-events-plugin.com//7.2.3.1//EN
TZID:Europe/Stockholm
X-WR-TIMEZONE:Europe/Stockholm
BEGIN:VEVENT
UID:531@volvop1800club.se
DTSTART;TZID=Europe/Stockholm;VALUE=DATE:20260815
DTEND;TZID=Europe/Stockholm;VALUE=DATE:20260816
DTSTAMP:20260301T161741Z
URL:https://volvop1800club.se/events/lergokarallyt-2/
SUMMARY:Lergökarallyt
DESCRIPTION:\n\n[su_box title="Lergökarallyt 2026" style="soft" box_color=
 "#fdfc73" title_color="#0b0a0a"]\n\nDet börjar närma sig årets självkl
 ara mötesplats för oss som uppskattar fina vägar\, vackra fordon och go
 tt sällskap. En dag att se fram emot – fylld av körglädje och gemensk
 ap.\nAnmälan är officiellt öppen. Förhandsanmälan ger dig ett förmå
 nligare pris och exklusiva fördelar som inte erbjuds vid bokning på plat
 s.\n\n&nbsp\;\nOm du anmäler dig till Lergökarallyt innan den 3 augusti 
 ingår det här:\n• Deltagareskylt med nummer.\n• Road Book/Körväg.\
 n• Frågor vid de olika kontrollerna.\n• Entréavgift 2 personer Vall
 åkraträffen (Förare + passagerare)\n• Programtidning Vallåkraträffe
 n.\n• Reklamprodukter från sponsorer.\n• Rallykasse innehållande god
 is &amp\; dricka.\n• Minnesplatta Lergökarallyt\n• 2 Frukostbullar + 
 2 kaffe vid starten ingår\n• Chans att vinna fina priser!\n\n[su_button
  url="https://www.lergokarallyt.se/anmalan/" target="blank" size="5"]Boka 
 här![/su_button][su_divider top="no"]\nDrivers Dinners Weekend-paket\nSta
 rten går i Ängelholm\, en stad som verkligen förtjänar lite extra tid.
  Därför erbjuder vi även i år vårt populära Drivers Dinner Weekend-p
 aket för dig som vill göra rallyhelgen till något mer.\n\nKom till Äng
 elholm redan fredag 14/8 och bo på centralt hotell. I paketet ingår:\n\n
 • Övernattning för 2 personer på Hotel HUS 57 / Lilton.\n• 2-rätte
 rs middag (exkl dryck) för 2 personer på Restaurang Pavo med quiz.\n• 
 Start Lergökarallyt Finnvedens Lastvagnar Ängelholm 09.00\n• Presentat
 ion av din bil på Storgatan i Ängelholm.\n• Rallykasse innehållande g
 odis &amp\; dricka.\n• Deltagareskylt med nummer.\n• Skylt med Årets 
 Utvalda / VIP.\n• Road Book/Körväg.\n• Frågor vid de olika kontroll
 erna.\n• Entréavgift 2 personer Vallåkraträffen (Förare + passagerar
 e)\n• Programtidning Vallåkraträffen.\n• Reklamprodukter från spons
 orer.\n• Minnesplatta Lergökarallyt\n• VIP parkering framför scenen 
 vid målgången.\n• Chans att vinna fina priser!\n\n[su_button url="http
 s://www.lergokarallyt.se/boende-lergokarallyt/" target="blank" size="5"]Bo
 ka här![/su_button]\n\nAntalet platser till weekendpaketet är begränsat
 \, så vi rekommenderar tidig bokning. Senast den 3 juli behöver vi din a
 nmälan.\nVi ser fram emot att träffa dig och dela ännu ett minnesvärt 
 Lergökarally tillsammans!\n\nMer info på vår hemsida: https://www.lergo
 karallyt.se/\n\n[/su_box]
CATEGORIES:Större bilträff för alla fordon
END:VEVENT
BEGIN:VTIMEZONE
TZID:Europe/Stockholm
X-LIC-LOCATION:Europe/Stockholm
BEGIN:DAYLIGHT
DTSTART:20260329T030000
TZOFFSETFROM:+0100
TZOFFSETTO:+0200
TZNAME:CEST
END:DAYLIGHT
END:VTIMEZONE
END:VCALENDAR