BEGIN:VCALENDAR
VERSION:2.0
PRODID:-//wp-events-plugin.com//7.2.3.1//EN
TZID:Europe/Stockholm
X-WR-TIMEZONE:Europe/Stockholm
BEGIN:VEVENT
UID:515@volvop1800club.se
DTSTART;TZID=Europe/Stockholm:20240423T183000
DTEND;TZID=Europe/Stockholm:20240423T233000
DTSTAMP:20240116T173945Z
URL:https://volvop1800club.se/events/manadstraffarna-i-malmo/
SUMMARY:Månadsträffarna i Malmö
DESCRIPTION:Svenska Volvo 140-klubben\, Svenska Volvo Amazonklubben och Sve
 nska Volvo PV-klubben inbjuder till tisdagsträffar i Malmö eller Löddek
 öpinge.\n[box type="shadow" ]Vi träffas sista tisdagen i varje månad fr
 ån april till och med september förutom april som är näst sista tisdag
 en i månaden.\nDrottningtorget gäller följande datum: 23/4\, 28/5\, 25/
 6\, 30/7\, 27/8 och slutligen 24/9.\n\nSamling: 18.30.\nProgram:\nEn speci
 alare gäller tisdagen den 28/5! Vi grillar korv i Torup! Samling på Drot
 tningtorget\, sen kör vi gemensamt till Torup. Hinner du inte till Drottn
 ingtorget\, kom direkt till Torup.\n\nMedtag korv och bröd för grillning
 .\n\nTisdagen den 25 juni träffas vi klockan 18:30 på Reservdelshuset i 
 Hörby\, adress Filaregatan 16 i Hörby. De som vill köra gemensamt dit s
 amlas vi på Lund Södra Trafikplats parkeringsplats klockan 17:45 för ge
 mensam avfärd klockan 18:00. De erbjuder oss fina rabatter\, bjuder på k
 orv med bröd och att de kan fixa fram det mesta till gammelbilen. Observe
 ra\, ingen samling på Drottningtorget denna tisdag.\n\nFrågor ring Claes
  Strand 0737-70 75 83\n\nSom avslutning på säsongen 2024: Vi samlas på 
 Drottningtorget som vanligt den 24/9\, men sedan kör vi gemensamt till e
 n klubbmedlems garage för att grilla korv. Medtag korv och bröd för gri
 llning. Grillar och dryck är på plats!\n\nFint väder kan man alltid ön
 ska sig som en liten bonus. Vill ni sedan göra någon mer aktivitet under
  de resterande gångerna är vi öppna för idéer.\n\nTag nu tillfället 
 i akt i år att komma hit och lära känna medlemmarna i din egen hemtrakt
 .\n\nPå Drottningtorget träffas vi och umgås under enkla former\, och p
 ratar bort ett par timmar\, tills mörkret faller över staden. Vi brukar 
 ha väldigt trevligt under kvällen och även under förra året hade vi m
 ånga besökare.\n\nVi som arrangerar detta ser gärna att just du som ald
 rig tidigare varit på dessa månadsträffar kommer hit just i år.\n\nDet
  är viktigare att du kommer än din bil.\n\nHälsningar: Ola Olsson Modig
  Tel 046-25 25 43\, Mail: kassor@140-klubben.org\nRune Skott 0736-906 398 
 Mail: rune.skott@hotmail.com\nPeter Brobeck Tel 0723-764 800\, Mail:  pe
 ter@brobeckvindata.se\n\n[/box]
ATTACH;FMTTYPE=image/jpeg:https://volvop1800club.se/wp-content/uploads/201
 6/02/11255789_901810193212788_7338425544887867317_o-1.jpg
CATEGORIES:Återkommande träff,Lokala bilträff
LOCATION:Drottningtorget Malmö\, Drottningtorget \, Malmö\, Sverige
GEO:55.608388;13.009247500000015
X-APPLE-STRUCTURED-LOCATION;VALUE=URI;X-ADDRESS=Drottningtorget \, Malmö\,
  Sverige;X-APPLE-RADIUS=100;X-TITLE=Drottningtorget Malmö:geo:55.608388,1
 3.009247500000015
END:VEVENT
BEGIN:VTIMEZONE
TZID:Europe/Stockholm
X-LIC-LOCATION:Europe/Stockholm
BEGIN:DAYLIGHT
DTSTART:20240331T030000
TZOFFSETFROM:+0100
TZOFFSETTO:+0200
TZNAME:CEST
END:DAYLIGHT
END:VTIMEZONE
END:VCALENDAR