BEGIN:VCALENDAR
VERSION:2.0
PRODID:-//wp-events-plugin.com//7.2.3.1//EN
TZID:Europe/Stockholm
X-WR-TIMEZONE:Europe/Stockholm
BEGIN:VEVENT
UID:356@volvop1800club.se
DTSTART;TZID=Europe/Stockholm:20260613T100000
DTEND;TZID=Europe/Stockholm:20260613T150000
DTSTAMP:20260119T000144Z
URL:https://volvop1800club.se/events/motortraffen-pa-olofsfors-bruk/
SUMMARY:Motorträffen på Olofsfors Bruk
DESCRIPTION:Kom till vackra Olofsfors Bruk lördagen den 13 juni. Förra å
 ret kom över 900 klassiska fordon till träffen.\nPROGRAM\nKonferencier: 
 motorjournalisten Fredrik Nyblad.\n\n■ Alla klassiska fordon är välkom
 na.\n\nDet är öppet i masugnen\, stångjärnshammaren och Bruksmuseet.\n
 \nMat och fika finns till försäljning och picknickytorna är obegränsad
 e. Tipsrunda.\n\n10.00 Träffen öppnar officiellt.\n11.30 Presentation Sa
 abklubben 50 år!\n13.30 Presentation av utvalda fordon.\n14.30 Prisutdeln
 ing till juryns och folkets val.\n15.00 Träffen avslutas.\n\nKontaktperso
 n: Lennart Hellman på mobil 0705-391 477.\n\n&nbsp\;\nKarta:\n
ATTACH;FMTTYPE=image/jpeg:https://volvop1800club.se/wp-content/uploads/202
 6/01/olofsbruk1-768x533-1.jpg
CATEGORIES:Större bilträff där P1800-klubben deltar
END:VEVENT
BEGIN:VTIMEZONE
TZID:Europe/Stockholm
X-LIC-LOCATION:Europe/Stockholm
BEGIN:DAYLIGHT
DTSTART:20260329T030000
TZOFFSETFROM:+0100
TZOFFSETTO:+0200
TZNAME:CEST
END:DAYLIGHT
END:VTIMEZONE
END:VCALENDAR