BEGIN:VCALENDAR
VERSION:2.0
PRODID:-//wp-events-plugin.com//7.2.3.1//EN
TZID:Europe/Stockholm
X-WR-TIMEZONE:Europe/Stockholm
BEGIN:VEVENT
UID:523@volvop1800club.se
DTSTART;TZID=Europe/Stockholm:20250614T100000
DTEND;TZID=Europe/Stockholm:20250614T160000
DTSTAMP:20250408T205209Z
URL:https://volvop1800club.se/events/nostalgifestivalen/
SUMMARY:Nostalgifestivalen Vårgårda
DESCRIPTION:[box type="shadow" ]Vi har fått ett erbjudande från Vårgård
 a att få en egen hage för Svenska Volvo P1800-klubben på Nostalgifestiv
 alen i Vårgårda den 16 Juni mellan kl 10-16.\n\nDetta är en mycket trev
 lig tillställning med inte bara bilar utan också mycket annan nostalgia 
 tillsammans med retromarknad\, underhållning och annat godis. En festival
  för hela familjen!\nSe festivalens hemsida för mer information: www.n
 ostalgifestivalen.com\n\nFör de som tycker att GCCW blir svår med 2-daga
 rs närvaroplikt kanske denna träff vara ett alternativ. Annars kan det o
 ckså vara ett bra komplement.\n\nVill du delta på träffen och stå på
  P1800-klubbens speciella område så kontaktar du Inge Forsberg (inge.for
 sberg@gmail.com) för anmälan. Har du varit med på Tjolöholm tidigare h
 ar jag dina uppgifter annars vill jag veta namn\, adress\, telefonnr\, reg
 nr\, modell på din P1800 och årsmodell.\n\n[/box]\nKarta:\n
ATTACH;FMTTYPE=image/jpeg:https://volvop1800club.se/wp-content/uploads/202
 5/04/vårgårda.png
CATEGORIES:Större bilträff där P1800-klubben deltar
END:VEVENT
BEGIN:VTIMEZONE
TZID:Europe/Stockholm
X-LIC-LOCATION:Europe/Stockholm
BEGIN:DAYLIGHT
DTSTART:20250330T030000
TZOFFSETFROM:+0100
TZOFFSETTO:+0200
TZNAME:CEST
END:DAYLIGHT
END:VTIMEZONE
END:VCALENDAR