BEGIN:VCALENDAR
VERSION:2.0
PRODID:-//wp-events-plugin.com//7.2.3.1//EN
TZID:Europe/Stockholm
X-WR-TIMEZONE:Europe/Stockholm
BEGIN:VEVENT
UID:525@volvop1800club.se
DTSTART;TZID=Europe/Stockholm:20260613T100000
DTEND;TZID=Europe/Stockholm:20260613T160000
DTSTAMP:20260118T235321Z
URL:https://volvop1800club.se/events/nostalgitraffen-2026-i-nossebro-13-ju
 ni-2026/
SUMMARY:Nostalgiträffen 2026 i Nossebro 13 Juni 2026
DESCRIPTION:Den nya träffpunkten som ersatte Tjolöholm förra året blev 
 mycket uppskattad. Vi har också i år fått ett erbjudande från Nostalgi
 festivalen att få en egen hage för Svenska Volvo P1800-klubben. \n\nNytt
  för året är att Nostalgifestivalen har gått ihop med Motorlördag (se
  mer info HÄR. ) och festivalen går nu av stapeln i Nossebro den 13 Juni
  mellan kl 10-16.\n\nNostalgifestivalen det är en mycket trevlig tillstä
 llning med inte bara bilar utan också mycket annan nostalgia tillsammans 
 med retromarknad\, underhållning och annat godis. En festival för hela f
 amiljen! Se festivalens hemsida för mer information: www.nostalgifestival
 en.com\n\nVill du också delta på träffen och stå på P1800-klubbens om
 råde så kontaktar du Inge Forsberg (inge.forsberg@gmail.com) för anmäl
 an.\n\nHar du varit med på Nostalgifestivalen/Tjolöholm tidigare har jag
  dina gamla uppgifter annars vill jag veta namn\, adress\, telefonnr\, reg
 nr\, modell på din P1800 och årsmodell.\n\nKontaktperson: Inge Forsberg 
 inge.forsberg@gmail.com\nTelefon: 0723 058100 (använd mail i första hand
 )\nAnmälan? Ja\nKarta:\n
ATTACH;FMTTYPE=image/jpeg:https://volvop1800club.se/wp-content/uploads/202
 5/10/NF-4-kopia-scaled.jpg
CATEGORIES:Större bilträff där P1800-klubben deltar
END:VEVENT
BEGIN:VTIMEZONE
TZID:Europe/Stockholm
X-LIC-LOCATION:Europe/Stockholm
BEGIN:DAYLIGHT
DTSTART:20260329T030000
TZOFFSETFROM:+0100
TZOFFSETTO:+0200
TZNAME:CEST
END:DAYLIGHT
END:VTIMEZONE
END:VCALENDAR