BEGIN:VCALENDAR
VERSION:2.0
PRODID:-//wp-events-plugin.com//7.2.3.1//EN
TZID:Europe/Stockholm
X-WR-TIMEZONE:Europe/Stockholm
BEGIN:VEVENT
UID:453@volvop1800club.se
DTSTART;TZID=Europe/Stockholm:20210827T000000
DTEND;TZID=Europe/Stockholm:20210829T000000
DTSTAMP:20210804T205807Z
URL:https://volvop1800club.se/events/p1800-klubbens-sommartraff-2021/
SUMMARY:P1800-klubbens Sommarträff 2021
DESCRIPTION:Bilens 60-årsjubileum!\n[box type="shadow" ] [dropcap]V[/dropc
 ap]älkomna till Östergötland och Söderköping där Sommarträffen 2021
  med årsstämma äger rum. Vår bil firar dessutom sitt 60-årsjubileum.\
 n\nVi bor på det anrika Söderköpings Brunn vid Göta Kanal.\n\nMed hän
 syn till rådande restriktioner och vaccinationstakten har styrelsen\, i s
 amråd med arrangörerna\, beslutat att förlägga Sommarträffen till det
  alternativa datum som presenterades i magasinet 1/2021\, det vill säga 2
 7 – 29/8. Vi räknar med att kunna genomföra det planerade programmet f
 ullt ut.\nFredag 27 augusti\nBuss avgår 17.45 från hotellet till Göta 
 Kanal och Bergs Slussar\, som är kanalens högsta slusstrappa. Räkkryssn
 ing med M/S Wasa Lejon på sjön Roxen och i slussarna.\nLördag 28 august
 i\nVi kör in till de centrala delarna av Norrköping för att titta på d
 et berömda Industrilandskapet\, känt både i Sverige och ute i Europa. V
 i kikar även in på Stadsmuseet\, Arbetets museum och Visualiseringscente
 r\, det sistnämnda med interaktiva utställningar och 3D-film sittande i 
 en glob. Lunch intas på Arbetets museums sjätte våning i restaurang VY 
 med god utsikt över stadskärnan. Vi kör tillbaka till hotellet för år
 sstämma och middag\, förhoppningsvis med någon överraskning.\nSöndag 
 29 augusti\nVi färdas längs den gamla riksettan till Linköping och vida
 re via Vreta Kloster till Kornettgården\, ett museum om 700 kvadratmeter 
 som innehåller diverse miljöer från förr med hög nostalgifaktor!\n\nV
 i avslutar träffen med att fortsätta till Sjögestad Motell\, ett av Sve
 riges äldsta invigt 1954\, för att äta vår avslutande lunch.\n\nUtanf
 ör programmet\, som ett tillval efter lunchen\, tar vi med er som vill ti
 ll Flygvapenmuseum\, Sveriges största Flygmuseum..\nAnmälan och betalnin
 g\nAnmälan till klubben senast 6/8. Anmälan är bindande. Alla som anmä
 ler sig före /efter kommer att underrättas.\n\nBetalning till Svenska Vo
 lvo P1800-klubben på bankgiro 5307-8416 eller plusgiro 471356-6 senast de
 n 6/8. Ange ”Sommarträff 2021” samt medlemsnummer och namn på betaln
 ingen.\nBokning och betalning av logi\nDu bokar själv direkt till Söderk
 öpings Brunn\, Skönbergsvägen 35\, 614 30 Söderköping. Telefon 0121-1
 09 00. Ange ”P1800-klubben” vid bokning.\n\nBetalning sker vid utcheck
 ning. Om du har önskemål om speciell kost\, ange detta vid hotellbokning
 en samt även på anmälningsblanketten.\n\nDubbelrum\; 1900:-/natt\nEnkel
 rum\; 1500:-/natt\n\nVälkomna önskar PG Eklöf\, Leif Gunnarsson och Lar
 s Gullqvist.\n\nFör frågor kontakta PG\, 070-53 29 366 eller pg.eklof@t
 elia.com\n\n[/box]\nKarta:\n
ATTACH;FMTTYPE=image/jpeg:https://volvop1800club.se/wp-content/uploads/202
 0/11/sommarträff1-3.jpg
CATEGORIES:Träff för enbart P1800
END:VEVENT
BEGIN:VTIMEZONE
TZID:Europe/Stockholm
X-LIC-LOCATION:Europe/Stockholm
BEGIN:DAYLIGHT
DTSTART:20210328T030000
TZOFFSETFROM:+0100
TZOFFSETTO:+0200
TZNAME:CEST
END:DAYLIGHT
END:VTIMEZONE
END:VCALENDAR