BEGIN:VCALENDAR
VERSION:2.0
PRODID:-//wp-events-plugin.com//7.2.3.1//EN
TZID:Europe/Stockholm
X-WR-TIMEZONE:Europe/Stockholm
BEGIN:VEVENT
UID:455@volvop1800club.se
DTSTART;TZID=Europe/Stockholm:20210918T110000
DTEND;TZID=Europe/Stockholm:20210918T140000
DTSTAMP:20210531T133135Z
URL:https://volvop1800club.se/events/saab-volvo-varberg-2021/
SUMMARY:SAAB VOLVO Varberg 2021
DESCRIPTION:Äntligen får vi ses och snacka bil igen!\nSjöallén Varberg\
 nLördagen den 18e september kl 11-14\nUppdaterad info finns på klubbarna
 s sociala medier.\nKarta:\n
ATTACH;FMTTYPE=image/jpeg:https://volvop1800club.se/wp-content/uploads/202
 1/05/varberg.png
CATEGORIES:Lokal Volvoträff
END:VEVENT
BEGIN:VTIMEZONE
TZID:Europe/Stockholm
X-LIC-LOCATION:Europe/Stockholm
BEGIN:DAYLIGHT
DTSTART:20210328T030000
TZOFFSETFROM:+0100
TZOFFSETTO:+0200
TZNAME:CEST
END:DAYLIGHT
END:VTIMEZONE
END:VCALENDAR