BEGIN:VCALENDAR
VERSION:2.0
PRODID:-//wp-events-plugin.com//7.2.3.1//EN
TZID:Europe/Stockholm
X-WR-TIMEZONE:Europe/Stockholm
BEGIN:VEVENT
UID:458@volvop1800club.se
DTSTART;TZID=Europe/Stockholm:20210911T110000
DTEND;TZID=Europe/Stockholm:20210911T150000
DTSTAMP:20210809T165314Z
URL:https://volvop1800club.se/events/skoklostertraffen/
SUMMARY:Skoklosterträffen
DESCRIPTION:\nHej och välkomna till Skoklosterträffen\nEn Volvoträff i n
 atursköna Skokloster i Upplands 4\,5 mil från sthlm-uppsla-enköping.\nI
 ngen föranmälan behövs.\nArrangörer : Turbo Performance Club\nFinns ca
 mping med stugor 5 km från träffområdet.\nIngen tvättmöjlighet \, Bå
 lsta 1\,8 mil från området är närmast.\nOm vi lyckas få tag på någo
 t kommer detta att gå ut i denna grupp.\n2019 hade vi en kanonträff med 
 270 st bilar.\nVi kommer i år ha träffen KL 11:00 - 15:00 den 11 Septemb
 er\nPlats Skokloster Restaurang vid Sveriges äldsta barockslott.\nDet fin
 ns mat och dricka på plats.\nInträde för utställare är 100kr per bil.
 \nSamarbete med Barncancerfonden\nBilar mellan 1927-1991 är inräknade so
 m Classicbilar.\n2019 hade vi så många classic att området blev översv
 ämmat av bilar så i år kommer vi utöka området för classicbilarna.\n
 39 pokaler kommer delas ut.\nKlasser\nPeoples Choise\nTop 25\nClassic 1 -5
 \nTjejklass ( ny för i år ) 1-3 pris\nBästa motorutrymme\nBästa Inredn
 ing\nArrangörens val 1-3 ( tas fram av bilkännare och bilbyggare på pla
 ts )\n\n\nUtställarna är dom som röstar fram alla vinnare.\nVi kommer h
 a utlottning av sponsorpriser varje timme mellan 12-14\n\n\nTipspromenad f
 ör familjen med ett sött pris.\n\n\nSponsorer i dagsläget.\nCar Care Pr
 oducts Sverige AB\nVärmepumpsproffsen\nDP Svenska Teletjänst AB\nKarta:\
 n\n\n
ATTACH;FMTTYPE=image/jpeg:https://volvop1800club.se/wp-content/uploads/202
 1/08/227175750_10158449506102998_7815143407067466037_n.jpg
CATEGORIES:Lokal Volvoträff
END:VEVENT
BEGIN:VTIMEZONE
TZID:Europe/Stockholm
X-LIC-LOCATION:Europe/Stockholm
BEGIN:DAYLIGHT
DTSTART:20210328T030000
TZOFFSETFROM:+0100
TZOFFSETTO:+0200
TZNAME:CEST
END:DAYLIGHT
END:VTIMEZONE
END:VCALENDAR