BEGIN:VCALENDAR
VERSION:2.0
PRODID:-//wp-events-plugin.com//7.2.3.1//EN
TZID:Europe/Stockholm
X-WR-TIMEZONE:Europe/Stockholm
BEGIN:VEVENT
UID:419@volvop1800club.se
DTSTART;TZID=Europe/Stockholm:20200502T083000
DTEND;TZID=Europe/Stockholm:20200502T170000
DTSTAMP:20200323T145733Z
URL:https://volvop1800club.se/events/smalandstraff-2020/
SUMMARY:Smålandsträff 2020 INSTÄLLD!!!
DESCRIPTION: Smålandsträffen 2020 inställd\nVi måste tyvärr meddela a
 tt vi planerar ställa in träffen den 2 maj med anledning av Corona och u
 ppmaningar att inte träffas i grupp. Vår målsättning är att kunna gen
 omföra träffen vid ett senare tillfälle längre fram.\n\nMed vänlig h
 älsning\n\nRichard Thompsson\n\n&nbsp\;\n\n[/box]
ATTACH;FMTTYPE=image/jpeg:https://volvop1800club.se/wp-content/uploads/201
 9/12/IMG_5014.jpg
CATEGORIES:Tyvärr
END:VEVENT
BEGIN:VTIMEZONE
TZID:Europe/Stockholm
X-LIC-LOCATION:Europe/Stockholm
BEGIN:DAYLIGHT
DTSTART:20200329T030000
TZOFFSETFROM:+0100
TZOFFSETTO:+0200
TZNAME:CEST
END:DAYLIGHT
END:VTIMEZONE
END:VCALENDAR