BEGIN:VCALENDAR
VERSION:2.0
PRODID:-//wp-events-plugin.com//7.2.3.1//EN
TZID:Europe/Stockholm
X-WR-TIMEZONE:Europe/Stockholm
BEGIN:VEVENT
UID:526@volvop1800club.se
DTSTART;TZID=Europe/Stockholm:20260626T000000
DTEND;TZID=Europe/Stockholm:20260628T000000
DTSTAMP:20260228T212320Z
URL:https://volvop1800club.se/events/sommartraffen-2026/
SUMMARY:Inbjudan och anmälan till Sommarträffen 2026 den 26 – 28 juni\,
  Öland och Kalmar
DESCRIPTION:Dags att planera sommaren med din P1800!\nI år samlas vi på e
 n plats med mycket nordisk historia och därför hoppas vi extra mycket p
 å deltagare från våra nordiska grannländer - Se klubbtidning 4/2025.\n
 [su_box title="PROGRAM" style="soft" box_color="#fdfc73" title_color="#0b0
 a0a"]\nBoende\n[caption id="attachment_17317" align="alignright" width="30
 0"] Skansen Hotell[/caption]\n\nUtgångspunkten för träffen är Färjest
 aden på Öland. Vi bor på Hotell Skansen  som ligger precis vid hamnen 
 och Kalmarsund\, strax söder efter brofästet. Från hotellet är det gå
 ngavstånd till strandpromenader\, Paradis-verkstaden och andra små butik
 er eller t.o.m. ta ett bad vid kajen efter bilresan. Parkeringsplats finns
  avgränsat intill hotellet. Det finns också en campingplats inom gångav
 stånd för deltagare med tex husbilar.\nBokning av boende\nHotellet kan u
 ppbringa 50 standardrum som är reserverade för träffen tom 15 maj (”f
 örst till kvarn”). Utöver det finns några enklare rum och sviter. Del
 tagare bokar själva boende. Bokningskod för standardrum är ”Svenska V
 olvo P1800 klubben”. Priset för ett standardrum mellan 26-28 Juni för 
 2 personer 2 nätter är 3.850 SEK (3.250 SEK för singelrum). Hotellet ha
 r också ett bokningsbart spa med bastu\, bubbelpool och massagebehandling
 ar.\nProgram översikt\nFredag 26 juni\nIncheckning mellan kl 15 - 17. Und
 er fredagskvällen serveras middag i hotellets matsal. Efter det kommer vi
  ha en kortare samling.\nLördag 27 juni\nPå förmiddagen åker vi i bilk
 onvoj mot norr till Sollidens slott. Efter besöket åker vi tillbaka för
  lunch på Hotell Skansen. Här serveras öländska kroppkakor med lingons
 ylt\, smör och grädde. Efter lunchpaus (och ev lätt paltkoma) fortsätt
 er dagen med buss till Kalmar Slott: www.kalmarslott.se för guidad tur. D
 et finns också mycket att se på egen hand i området runt slottet. Efter
  besöket återvänder vi med buss till Färjestaden och hotellet för tr
 äffens festmiddag.\nSöndag 28 juni\nEfter frukost inleds dagen med klubb
 ens årsstämma\, och därefter utcheckning och avfärd i konvoj över Öl
 andsbron till Kalmar och Kalmar läns museum. Här besöker vi utställnin
 gen om Regalskeppet Kronan och får en guidad tur. Därefter följer en av
 slutande lunchbuffé i muséets matsal. Med det avslutas årets sommarträ
 ff\, men deltagare som vill kan fortsätta på muséet eller besöka stade
 n Kalmar eller Öland på egen hand!\nAnmälan\nDet finns två möjlighete
 r att anmäla sig:\n\n 	Via klubbens hemsida: Här kan du ladda ner anmäl
 ningsblankett med detaljerat program och tider. Fyll i dina uppgifter\, f
 å uppgifter på vad du ska betala\, och maila sedan blanketten till: ande
 rs.jarlebratt@gmail.com\n 	Via mail: Skicka ett mail till anders.jarlebrat
 t@gmail.com och ange som rubrik ”önskar anmälningsblankett till Sommar
 träffen 2026”. Blanketten mailas till dig med alla nödvändiga uppifte
 r. Fyll i och återsänd till samma adress.\n\nI båda fallen gäller föl
 jande:\nBetalning sker enligt pris i anmälan till Svenska Volvo P1800-klu
 bben\nBankgiro 5307–8416 eller\nPlusgiro 471356–6\nAnge: Sommarträff 
 2026\, namn och medlemsnummer\n\nSista datum att anmäla sig är 15 maj 20
 26 och anmälan är bindande.\n\nGlöm inte att du själv bokar boende! Me
 ddela också gärna klubben om du/ni inte bor på hotellet.\nFrågor runt 
 arrangemanget\nVälkommen att höra av dig till Gudhrun Järlebratt 0704-1
 5 7342 (sms) eller via mail: gudhrun.jarlebratt@gmail.com\nTips\nOm du kom
 mer tidigare till Öland: Under sommarens torsdagskvällar brukar det arra
 ngeras välbesökta veteranbilsträffar i Färjestaden på gångavstånd f
 rån Hotell Skansen.\n\nOm du väljer att stanna kvar lite längre: Under 
 sommaren (tex 28 juni) arrangeras en sommarteater på Krusenstiernska Teat
 ern i Kalmar- Fångad på nätet – med bla Robert Gustavsson. Biljetter 
 finns redan nu på Showtic.se\n\nVÄLKOMNA ALLA! / Programkommitteen\nIT a
 dresser:\nwww.skansenhotell.se\nwww.kalmarlansmuseum.se\nwww.solliden.se\n
 www.kalmarslott.se\nwww.olandsbron.se\nwww.kalmarstad.se\n [/su_box]\nKar
 ta:\n
ATTACH;FMTTYPE=image/jpeg:https://volvop1800club.se/wp-content/uploads/202
 5/11/kalmar-1.png
CATEGORIES:Träff för enbart P1800
END:VEVENT
BEGIN:VTIMEZONE
TZID:Europe/Stockholm
X-LIC-LOCATION:Europe/Stockholm
BEGIN:DAYLIGHT
DTSTART:20260329T030000
TZOFFSETFROM:+0100
TZOFFSETTO:+0200
TZNAME:CEST
END:DAYLIGHT
END:VTIMEZONE
END:VCALENDAR