BEGIN:VCALENDAR
VERSION:2.0
PRODID:-//wp-events-plugin.com//7.2.3.1//EN
TZID:Europe/Stockholm
X-WR-TIMEZONE:Europe/Stockholm
BEGIN:VEVENT
UID:418@volvop1800club.se
DTSTART;TZID=Europe/Stockholm:20200517T100000
DTEND;TZID=Europe/Stockholm:20200517T160000
DTSTAMP:20200415T210016Z
URL:https://volvop1800club.se/events/stockholmstraffen-3/
SUMMARY:Stockholmsträffen INSTÄLLD!
DESCRIPTION:Stockholmsträffen är inställd!
ATTACH;FMTTYPE=image/jpeg:https://volvop1800club.se/wp-content/uploads/201
 9/01/IMG_2830.jpg
CATEGORIES:Tyvärr
LOCATION:Sundby Gård\, Sundby gårdsväg 5\, Huddinge\, 141 91\, Sverige
GEO:59.2016317;18.021585200000004
X-APPLE-STRUCTURED-LOCATION;VALUE=URI;X-ADDRESS=Sundby gårdsväg 5\, Huddi
 nge\, 141 91\, Sverige;X-APPLE-RADIUS=100;X-TITLE=Sundby Gård:geo:59.2016
 317,18.021585200000004
END:VEVENT
BEGIN:VTIMEZONE
TZID:Europe/Stockholm
X-LIC-LOCATION:Europe/Stockholm
BEGIN:DAYLIGHT
DTSTART:20200329T030000
TZOFFSETFROM:+0100
TZOFFSETTO:+0200
TZNAME:CEST
END:DAYLIGHT
END:VTIMEZONE
END:VCALENDAR