BEGIN:VCALENDAR
VERSION:2.0
PRODID:-//wp-events-plugin.com//7.2.3.1//EN
TZID:Europe/Stockholm
X-WR-TIMEZONE:Europe/Stockholm
BEGIN:VEVENT
UID:522@volvop1800club.se
DTSTART;TZID=Europe/Stockholm:20250627T000000
DTEND;TZID=Europe/Stockholm:20250629T000000
DTSTAMP:20250210T203018Z
URL:https://volvop1800club.se/events/svenska-volvo-p-1800-klubben-sommartr
 aff/
SUMMARY:Svenska Volvo P 1800-klubben Sommarträff
DESCRIPTION:Välkomna till Sommarträffen 2025 med årsstämma som äger ru
 m i Närke och Bergslagen.\n[box type="shadow" ]\n\n[dropcap]V[/dropcap]i 
 bor på det välkända Loka Brunn\, med kurverksamhet sedan 1720. Brunnen 
 ligger cirka tre mil norr om Karlskoga med Kilsbergen som granne\, en seri
 e förkastningsbranter i gränslandet mellan Västerhavet och Östersjön.
 \nFredag 27/6\nVi väljer av flera skäl att kvarstanna på Loka Brunn dä
 r vi intar kvällens middag. Området är väl värt att flanera runt i. V
 arför inte komma tidigare och hinna unna dig ett besök i deras välkänd
 a spaavdelning. (ingår ej)\nLördag 28/6\n[caption id="attachment_15834" 
 align="alignright" width="300"] Nora Torg[/caption]\n\nVi kör in till de 
 centrala delarna av Nora där halva gänget ägnar sig åt stadsvandring i
  trästaden Nora\, som för övrigt ä förebild för den fiktiva staden S
 koga i Maria Langs deckare. Här började också Ernst Kirchsteiger sin tv
 -bana när han gjorde Sommartorpet i SvT\, inhandlade saker i Anderssons d
 iversehandel\, som låg vid torget (annan verksamhet idag). Den andra halv
 an bussas upp till den gamla bergmansbyn Pershyttan med anor från 1300-ta
 let. I samband med byte i halvtid intar vi gemensam lunch på Nora stadsho
 tell. När vi är klara för dagen kör vi tillbaka till Loka Brunn. Åter
 färden sker enskilt för att ge dig möjlighet att stanna i den välkänd
 a orten Grythyttan\, bland annat sitt värdshus från 1640. Tillbaka på B
 runnen blir det eftermiddagsfika\, årsstämma och middag.\nSöndag 29/6\n
 Gemensam konvoj in till torget i Nora där vi sedan går ner till järnvä
 gsstationen för färd med ånglok Nora –Järle ToR där en fika vid vä
 ndpunkten ingår. Järnvägen är Sveriges första normalspåriga järnvä
 g för persontrafik\, invigd redan 1856. Vi avslutar den ”officiella” 
 träffen med lunch på Nora Stadshotell.\n\nSom option efter lunch erbjude
 r vi en 40 km färd ner till Björkborn\, i norra utkanten av Karlskoga\, 
 och som var Alfred Nobels sista boende i Sverige. Här finns också hans l
 aboratorium. Guidningen på båda sakerna tar cirka en 1½ timma och börj
 ar senast 14.00.\n\nVi behöver ha en uppfattning om du avser följa med e
 ller inte för att kunna förbereda dem. Därför ligger den med på blank
 etten.\nAnmälan och betalning\nAnmälan till klubben senast 31/5. Anmäla
 n är bindande.\n\nBetalning görs till Svenska Volvo P1800-klubben på ba
 nkgiro 5307-8416 eller plusgiro 471356-6 senast den 31/5. Ange ”Sommartr
 äff 2025” samt medlemsnummer och namn på betalningen.\n\nAnmälan skic
 kas till pg.eklof@telia.comeller PG Eklöf\, Kopparvägen 37\, 2tr\, 791 4
 2 Falun. Vid eventuella frågor ring PG +46 70 53 29 366.\nBokning och bet
 alning av logi\nDu bokar själv direkt till Loka Brunn. Ange ”P1800-klub
 ben” vid bokning. \n\nBetalning sker vid utcheckning. Om du har önskem
 ål om speciell kost\, ange detta vid hotellbokningen samt även på anmä
 lningsblanketten.\n\nPris per person\; 2 790 för 2 nätter\n\nVälkomna 
 önskar er PG Eklöf och Göran Olsson.\n\nFör frågor kontakta PG\, 070-
 53 29 366 eller pg.eklof@telia.com eller Göran 0705-727 885 eller 52.gor
 an.olsson@gmail.com      \n\nAnmälningsblankett hämtar du HÄR  
            \n\n[/box]\nKarta:\n
ATTACH;FMTTYPE=image/jpeg:https://volvop1800club.se/wp-content/uploads/202
 5/02/loka.png
CATEGORIES:Träff för enbart P1800
END:VEVENT
BEGIN:VTIMEZONE
TZID:Europe/Stockholm
X-LIC-LOCATION:Europe/Stockholm
BEGIN:DAYLIGHT
DTSTART:20250330T030000
TZOFFSETFROM:+0100
TZOFFSETTO:+0200
TZNAME:CEST
END:DAYLIGHT
END:VTIMEZONE
END:VCALENDAR