BEGIN:VCALENDAR
VERSION:2.0
PRODID:-//wp-events-plugin.com//7.2.3.1//EN
TZID:Europe/Stockholm
X-WR-TIMEZONE:Europe/Stockholm
BEGIN:VEVENT
UID:422@volvop1800club.se
DTSTART;TZID=Europe/Stockholm;VALUE=DATE:20200718
DTEND;TZID=Europe/Stockholm;VALUE=DATE:20200719
DTSTAMP:20200123T231525Z
URL:https://volvop1800club.se/events/svis-sommarmarknad/
SUMMARY:SVIS Sommarmarknad
DESCRIPTION:﻿﻿\n[box type="shadow" ]\nSommarmarknad lördag 18 juli\nDr
 op In för säljare\n\n[su_box title=" SVIS Reservdelslager Volvodelar\nV
 ästeråsvägen 138\, Munktorp utanför Köping" style="soft"]Öppettider 
 TORSDAGAR kl.16.00 – 20.00\nSista LÖRDAGEN i månaden 10.00 – 13.00\n
 SVIS Tel: 0221-284 45\n\nHemsida HÄR[/su_box]\n\n[/box]
ATTACH;FMTTYPE=image/jpeg:https://volvop1800club.se/wp-content/uploads/201
 6/02/SVIS-2006-006-1.jpg
CATEGORIES:Större bilträff där P1800-klubben deltar
END:VEVENT
BEGIN:VTIMEZONE
TZID:Europe/Stockholm
X-LIC-LOCATION:Europe/Stockholm
BEGIN:DAYLIGHT
DTSTART:20200329T030000
TZOFFSETFROM:+0100
TZOFFSETTO:+0200
TZNAME:CEST
END:DAYLIGHT
END:VTIMEZONE
END:VCALENDAR