BEGIN:VCALENDAR
VERSION:2.0
PRODID:-//wp-events-plugin.com//7.2.3.1//EN
TZID:Europe/Stockholm
X-WR-TIMEZONE:Europe/Stockholm
BEGIN:VEVENT
UID:530@volvop1800club.se
DTSTART;TZID=Europe/Stockholm:20260710T100000
DTEND;TZID=Europe/Stockholm:20260711T150000
DTSTAMP:20260228T211755Z
URL:https://volvop1800club.se/events/thulintraffen-crusing-i-landskrona/
SUMMARY:Thulinträffen & Crusing i Landskrona
DESCRIPTION:[su_box title="Thulinträffen &amp\; Crusing i Landskrona" styl
 e="soft" box_color="#fdfc73" title_color="#0b0a0a"]\n\nDet arrangeras en c
 rusing i Landskrona under fredagskvällen den 10 juli. Samling klockan 18:
 00. Skeppsbron\, Landskrona.\n\nFör mer information kontakta undertecknad
 e eller gå in på: www.mhkskane.nu/thulintraffen/\n\n 	Ola Olsson Modig\,
  046-25 25 43. Mail: olaolssonmodig@gmail.com\n 	Rune Skott\, 0731-06 15 0
 4\n\nThulinträffen i Landskrona 11 juli\nMotorhistoriska klubben i Skåne
  arrangerar Thulinträffen som en hyllning till motor och flygpionjären E
 nock Thulin som omkom i en flygolycka 1919.\n\nI år kommer vi att hålla 
 en separat Volvoutställning där det behövs anmälan till undertecknad f
 ör att få korrekt yta avsett för Volvobilarna. De som inte önskar stå
  i avsedd Volvoparkering är lika välkomna men kommer då som oanmäld ti
 ll träffen och placerar sitt fordon på den allmänna parkeringen för sa
 mlarfordon.\n\nDag: 11 juli. Observera en vecka tidigare än vanligt!\n\nP
 lats: Citadellet i Landskrona\n\nSamling: 8:00-9:00\n\nUtställningen vara
 r klockan: 10:00-15:00\n\nAnmälan senast den 8 juli till undertecknade.\n
 \nFri entré för samtliga gäller även besökare.\n\n[/su_box]
ATTACH;FMTTYPE=image/jpeg:https://volvop1800club.se/wp-content/uploads/202
 6/02/thulin-1.png
CATEGORIES:Större bilträff för alla fordon
END:VEVENT
BEGIN:VTIMEZONE
TZID:Europe/Stockholm
X-LIC-LOCATION:Europe/Stockholm
BEGIN:DAYLIGHT
DTSTART:20260329T030000
TZOFFSETFROM:+0100
TZOFFSETTO:+0200
TZNAME:CEST
END:DAYLIGHT
END:VTIMEZONE
END:VCALENDAR