BEGIN:VCALENDAR
VERSION:2.0
PRODID:-//wp-events-plugin.com//7.2.3.1//EN
TZID:Europe/Stockholm
X-WR-TIMEZONE:Europe/Stockholm
BEGIN:VEVENT
UID:475@volvop1800club.se
DTSTART;TZID=Europe/Stockholm:20230628T190000
DTEND;TZID=Europe/Stockholm:20230628T220000
DTSTAMP:20230220T132944Z
URL:https://volvop1800club.se/events/tjornbrotraffar-2016-2023-06-28/
SUMMARY:Tjörnbroträffar 2023
DESCRIPTION:[box type="shadow" ] [dropcap]I[/dropcap]nbjudan till 2023 års
  Tjörnbroträffar\, Volvobilar. Original\, ombyggda eller bruksskick på
  bilen? Spelar ingen roll. Lika kul att ses för det!!!\n\nVi ses vid gaml
 a Tjörnbrofästets västra sida med sin fantastiska havsutsikt\, platsen
  ligger 5 mil norr om Göteborg.\n\nTräffarna startar 19 april och fortl
 öper sedan varannan onsdag (jämna veckor alltså) kl 19 och avslutas 20 
 september.\n\nVi träffas\, knyter nya kontakter med varandra. Huvudsaken 
 är att få träffa likasinnade. Ta gärna med saker i bagaget som ni vill
  bli av med.\n\nAlla Volvobilar producerade förra århundrandet är välk
 omna!!! Glöm inte fikakorgen\n\nVi finns även på Facebook\, sök på "T
 jörn Broträff" Tanken är att tips på aktiviteter läggs upp där.\n\nK
 om gärna med förslag på aktiviteter/utflykter.\n\nVi ses!! Välkomna!\n
 \nClaes Magnbrant\n\n[/box]
ATTACH;FMTTYPE=image/jpeg:https://volvop1800club.se/wp-content/uploads/201
 6/02/384381_dqugmd-300x225-1-300x2251.jpg
CATEGORIES:Återkommande träff,Lokal Volvoträff
LOCATION:Tjörnbron\, Tjörnbron\, Stenungsund\, Sverige
GEO:58.0591569;11.781531500000028
X-APPLE-STRUCTURED-LOCATION;VALUE=URI;X-ADDRESS=Tjörnbron\, Stenungsund\, 
 Sverige;X-APPLE-RADIUS=100;X-TITLE=Tjörnbron:geo:58.0591569,11.7815315000
 00028
END:VEVENT
BEGIN:VTIMEZONE
TZID:Europe/Stockholm
X-LIC-LOCATION:Europe/Stockholm
BEGIN:DAYLIGHT
DTSTART:20230326T030000
TZOFFSETFROM:+0100
TZOFFSETTO:+0200
TZNAME:CEST
END:DAYLIGHT
END:VTIMEZONE
END:VCALENDAR