BEGIN:VCALENDAR
VERSION:2.0
PRODID:-//wp-events-plugin.com//7.2.3.1//EN
TZID:Europe/Stockholm
X-WR-TIMEZONE:Europe/Stockholm
BEGIN:VEVENT
UID:355@volvop1800club.se
DTSTART;TZID=Europe/Stockholm:20250601T091500
DTEND;TZID=Europe/Stockholm:20250601T160000
DTSTAMP:20250504T203358Z
URL:https://volvop1800club.se/events/uppsalatraffen-2025/
SUMMARY:Uppsalaträffen 2025
DESCRIPTION:Varmt välkomna till Uppsalaträffen\, söndagen den 1 juni 202
 5 kl. 09.15 – 16.00\n\n[box type="shadow" ]\n\n[dropcap]A[/dropcap]rrang
 emanget bjuder på guidad visning av Ängsöslott\, trevlig åktur i våra
  bilar till Falkenbergska kvarnen i Västerås\, där vi äter lunch. Som 
 avslutning på träffen beger vi oss till Åsby trädgård\, i närheten a
 v Hallstahammar.\n\n09.00 Samling vid Ängsöslott\, inne på gården fra
 mför slottet\n\n09.30 Guidad visning av Ängsöslott\n\n12.00 Lunch på F
 alkenbergska kvarnen (alternativen är fisk\, kött eller vegetariskt)\n\n
 13.30 Avfärd till Åsby trädgård\n\n14.00 Guidad visning av Åsby träd
 gård\n\n15.00 Fika på egen bekostnad i Cafét\, på Åsby trädgård\n\n
 16.00 Träffen avslutas\, Avfärd från Åsby trädgård\n\nAnmälningsavg
 ift 260:- per deltagare.\n\nAnmälan görs genom att skicka e-post till Jo
 han Nordgren\, johanolofnordgren@hotmail.com eller ringa/SMS på 070 237 4
 3 26.\n\nArrangörer\;Mats Westerman\, Johan Falck\, Johan Nordgren och In
 gemar Berndtsson.\nKarta:\n\n[/box]
ATTACH;FMTTYPE=image/jpeg:https://volvop1800club.se/wp-content/uploads/201
 7/01/Uppsalaträffen-2025-2.jpg
CATEGORIES:Träff för enbart P1800
END:VEVENT
BEGIN:VTIMEZONE
TZID:Europe/Stockholm
X-LIC-LOCATION:Europe/Stockholm
BEGIN:DAYLIGHT
DTSTART:20250330T030000
TZOFFSETFROM:+0100
TZOFFSETTO:+0200
TZNAME:CEST
END:DAYLIGHT
END:VTIMEZONE
END:VCALENDAR