BEGIN:VCALENDAR
VERSION:2.0
PRODID:-//wp-events-plugin.com//7.2.3.1//EN
TZID:Europe/Stockholm
X-WR-TIMEZONE:Europe/Stockholm
BEGIN:VEVENT
UID:529@volvop1800club.se
DTSTART;TZID=Europe/Stockholm:20260815T000000
DTEND;TZID=Europe/Stockholm:20260816T000000
DTSTAMP:20260228T210447Z
URL:https://volvop1800club.se/events/vallakratraffen-2/
SUMMARY:Vallåkraträffen
DESCRIPTION:[su_box title="Vallåkraträffen 2026" style="soft" box_color="
 #fdfc73" title_color="#0b0a0a"]Vallåkraträffen arrangeras på Enoch Thul
 ins flygplats\, Norra Viarpsvägen. 261 92 Landskrona.\n\nBiljetterna köp
 er du här: (vallakratraffen.com)https://vallakratraffen.com/tickets/.\n\n
 Dagsbiljett Vuxen Vallåkraträffen 2026 - Gäller antingen lördag eller 
 söndag: 220 kr\n\nMer info: https://vallakratraffen.com/\n\n[/su_box]\nKa
 rta:\n
ATTACH;FMTTYPE=image/jpeg:https://volvop1800club.se/wp-content/uploads/202
 6/02/vallakra2.png
CATEGORIES:Större bilträff för alla fordon
END:VEVENT
BEGIN:VTIMEZONE
TZID:Europe/Stockholm
X-LIC-LOCATION:Europe/Stockholm
BEGIN:DAYLIGHT
DTSTART:20260329T030000
TZOFFSETFROM:+0100
TZOFFSETTO:+0200
TZNAME:CEST
END:DAYLIGHT
END:VTIMEZONE
END:VCALENDAR