BEGIN:VCALENDAR
VERSION:2.0
PRODID:-//wp-events-plugin.com//7.2.3.1//EN
TZID:Europe/Stockholm
X-WR-TIMEZONE:Europe/Stockholm
BEGIN:VEVENT
UID:518@volvop1800club.se
DTSTART;TZID=Europe/Stockholm:20250816T000000
DTEND;TZID=Europe/Stockholm:20250817T000000
DTSTAMP:20250603T205147Z
URL:https://volvop1800club.se/events/vallakratraffen-pa-enoch-thulins-flyg
 plats/
SUMMARY:Vallåkraträffen på Enoch Thulins flygplats
DESCRIPTION:[box type="shadow" ]\n\nUnder två intensiva dagar på Enoch Th
 ulins flygplats är Vallåkraträffen den självklara mötesplatsen för a
 lla motorintresserade. De deltagare som har en bil utöver det vanliga och
  som vill få sin bil bedömd av jury på Vallåkraträffen måste föranm
 äla sig via hemsidan. Det går endast att ställa upp i en tävlingsklass
 !\n[divider]\n\n\n\n\nProgram\nLördag 16 augusti\nUtställningsbilar\nBed
 ömning av bilar i företags/klubbmontrar\n25 Bilklubbar\nBilsport Classic
  Hot Rod parade &amp\; Show\nPresentation av fina bilar på rampen\nMålg
 ång Lergökarallyt &amp\;\nSundets Pärla – Veteranlastbilsträff\nKlas
 siska bilar\nAmerikanska bilar\nSportbilar\nBilweb Auctions – Värdera d
 in bil på plats\nStreetfood Festival – Mat från världens alla hörn\n
 Företagsgata\, större än någonsin 1\,5km!\nPrisutdelning\n\n\n\n\n\n\n
 \n\n\nSöndag 17 augusti\nAmerican Street Custom – Ombyggda amerikanare\
 nVinn USA-resa\, Presentkort 30.000kr\, sponsrad av TurtleWax\nUtställnin
 gsbilar &amp\; bedömning- Meguiars Show N shine area\nRISLONE Showtime Ar
 ena – Uppvisningar\, drifting\, MC &amp\; UTV\nFinal – Sveriges Häfti
 gaste Volvo\nFinal – Bilsport – Årets Bygge 2025\nLions Club – Med
 åkningar med supersportbilar\n25 Bilklubbar\nPresentationer av fina bilar
  på rampen\nLimbo vid scenen\nBilbyggarlotteriet\nFöretagsgata\, större
  än någonsin 1\,5km!\nVeteranmarknad/Swapmeet\, öppnar 07.00\nStreetfoo
 d Festival – Mat från världens alla hörn\nSveriges största prisbord 
 för bilbyggare\n\n\n\n\n\nVälkommen med din bil till Vallåkraträffen 1
 6-17 Augusti!\n\n[embed width="600" ]https://youtu.be/cZCjeCI8pXw[/embed]\
 nKarta:\n\n[/box]
ATTACH;FMTTYPE=image/jpeg:https://volvop1800club.se/wp-content/uploads/202
 4/03/vallakra.png
CATEGORIES:Större bilträff för alla fordon
END:VEVENT
BEGIN:VTIMEZONE
TZID:Europe/Stockholm
X-LIC-LOCATION:Europe/Stockholm
BEGIN:DAYLIGHT
DTSTART:20250330T030000
TZOFFSETFROM:+0100
TZOFFSETTO:+0200
TZNAME:CEST
END:DAYLIGHT
END:VTIMEZONE
END:VCALENDAR