BEGIN:VCALENDAR
VERSION:2.0
PRODID:-//wp-events-plugin.com//7.2.3.1//EN
TZID:Europe/Stockholm
X-WR-TIMEZONE:Europe/Stockholm
BEGIN:VEVENT
UID:420@volvop1800club.se
DTSTART;TZID=Europe/Stockholm:20200523T090000
DTEND;TZID=Europe/Stockholm:20200523T170000
DTSTAMP:20200206T110805Z
URL:https://volvop1800club.se/events/volvotraff/
SUMMARY:Volvoträff\, Södra Sunderbyn
DESCRIPTION:Volvoträff i samverkan med Bilbolaget Luleå\, se större anno
 ns genom att klicka på den.\n\n&nbsp\;\n\n&nbsp\;\n\n&nbsp\;\nKarta:\n
ATTACH;FMTTYPE=image/jpeg:https://volvop1800club.se/wp-content/uploads/201
 9/12/85-750x410.jpg
CATEGORIES:Lokal Volvoträff
END:VEVENT
BEGIN:VTIMEZONE
TZID:Europe/Stockholm
X-LIC-LOCATION:Europe/Stockholm
BEGIN:DAYLIGHT
DTSTART:20200329T030000
TZOFFSETFROM:+0100
TZOFFSETTO:+0200
TZNAME:CEST
END:DAYLIGHT
END:VTIMEZONE
END:VCALENDAR