BEGIN:VCALENDAR
VERSION:2.0
PRODID:-//wp-events-plugin.com//7.2.3.1//EN
TZID:Europe/Stockholm
X-WR-TIMEZONE:Europe/Stockholm
BEGIN:VEVENT
UID:350@volvop1800club.se
DTSTART;TZID=Europe/Stockholm;VALUE=DATE:20240816
DTEND;TZID=Europe/Stockholm;VALUE=DATE:20240819
DTSTAMP:20231031T214237Z
URL:https://volvop1800club.se/events/vrom-2024/
SUMMARY:VROM 2024
DESCRIPTION:VROM är en ideell förening som årligen arrangerar en träff 
 för Volvo-entusiaster från hela världen. Bakom VROM\, Volvo Rendezvous 
 &amp\; Owners Meeting\, står de svenska Volvoklubbarna samt Volvo Cars He
 ritage.\n\n[box type="shadow" ]\n\nMer information och program kommer.....
 \n\nAktuell information om årets upplaga kommer på vår hemsida: vrom.or
 g\n\n[/box]\nVill du hjälpa till?\nKontakta Lennart Savehed så får du 
  kontaktuppgifter!
ATTACH;FMTTYPE=image/jpeg:https://volvop1800club.se/wp-content/uploads/201
 6/11/20110814vrom051-620x330.jpg
CATEGORIES:Större bilträff där P1800-klubben deltar
END:VEVENT
BEGIN:VTIMEZONE
TZID:Europe/Stockholm
X-LIC-LOCATION:Europe/Stockholm
BEGIN:DAYLIGHT
DTSTART:20240331T030000
TZOFFSETFROM:+0100
TZOFFSETTO:+0200
TZNAME:CEST
END:DAYLIGHT
END:VTIMEZONE
END:VCALENDAR