BEGIN:VCALENDAR
VERSION:2.0
PRODID:-//wp-events-plugin.com//7.2.3.1//EN
TZID:Europe/Stockholm
X-WR-TIMEZONE:Europe/Stockholm
BEGIN:VEVENT
UID:528@volvop1800club.se
DTSTART;TZID=Europe/Stockholm:20260814T080000
DTEND;TZID=Europe/Stockholm:20260816T170000
DTSTAMP:20260228T205653Z
URL:https://volvop1800club.se/events/vrom/
SUMMARY:VROM
DESCRIPTION:Program:\nFREDAG 14/8: Fredagens program är under planering\n\
 nLÖRDAG 15/8 VROM-runda med start och mål någonstans i trakterna runt G
 öteborg\n\nSÖNDAG 16/8 Utställning och marknad vid Volvohallen och Volv
 os huvudkontor\n\nMer info finns på https://vrom.org/VROM-2026/\nFilm fr
 ån 2024\n[su_youtube_advanced url="https://youtu.be/4B-YRkL5sAY" autoplay
 ="yes" loop="yes" rel="no" title="VROM 2024"]
ATTACH;FMTTYPE=image/jpeg:https://volvop1800club.se/wp-content/uploads/202
 6/02/vrom-logo.png
CATEGORIES:Större bilträff där P1800-klubben deltar
END:VEVENT
BEGIN:VTIMEZONE
TZID:Europe/Stockholm
X-LIC-LOCATION:Europe/Stockholm
BEGIN:DAYLIGHT
DTSTART:20260329T030000
TZOFFSETFROM:+0100
TZOFFSETTO:+0200
TZNAME:CEST
END:DAYLIGHT
END:VTIMEZONE
END:VCALENDAR